BEGIN:VCALENDAR
VERSION:2.0
PRODID:-//Stone Mountain Pet Lodge - ECPv6.15.20//NONSGML v1.0//EN
CALSCALE:GREGORIAN
METHOD:PUBLISH
X-ORIGINAL-URL:https://stonemountainpetlodge.com
X-WR-CALDESC:Events for Stone Mountain Pet Lodge
REFRESH-INTERVAL;VALUE=DURATION:PT1H
X-Robots-Tag:noindex
X-PUBLISHED-TTL:PT1H
BEGIN:VTIMEZONE
TZID:America/New_York
BEGIN:DAYLIGHT
TZOFFSETFROM:-0500
TZOFFSETTO:-0400
TZNAME:EDT
DTSTART:20240310T070000
END:DAYLIGHT
BEGIN:STANDARD
TZOFFSETFROM:-0400
TZOFFSETTO:-0500
TZNAME:EST
DTSTART:20241103T060000
END:STANDARD
BEGIN:DAYLIGHT
TZOFFSETFROM:-0500
TZOFFSETTO:-0400
TZNAME:EDT
DTSTART:20250309T070000
END:DAYLIGHT
BEGIN:STANDARD
TZOFFSETFROM:-0400
TZOFFSETTO:-0500
TZNAME:EST
DTSTART:20251102T060000
END:STANDARD
BEGIN:DAYLIGHT
TZOFFSETFROM:-0500
TZOFFSETTO:-0400
TZNAME:EDT
DTSTART:20260308T070000
END:DAYLIGHT
BEGIN:STANDARD
TZOFFSETFROM:-0400
TZOFFSETTO:-0500
TZNAME:EST
DTSTART:20261101T060000
END:STANDARD
END:VTIMEZONE
BEGIN:VEVENT
DTSTART;VALUE=DATE:20250925
DTEND;VALUE=DATE:20250926
DTSTAMP:20260422T175046
CREATED:20250829T170342Z
LAST-MODIFIED:20250902T180606Z
UID:9426-1758758400-1758844799@stonemountainpetlodge.com
SUMMARY:Doggy Daycare: Puptoberfest
DESCRIPTION:Puptoberfest: Thursday\, September 25th \nCelebrate fall the pup-approved way with our first-ever Puptoberfest! This daycare event features festive activities like doggy beer (made safe for pups\, of course) and a playful corn maze obstacle course. We’ll be snapping photos throughout the day so you can see your pup enjoying all the Oktoberfest-themed fun. \nReserve Your Pup’s Spot Here!
URL:https://stonemountainpetlodge.com/event/doggy-daycare-puptoberfest/
LOCATION:MN
CATEGORIES:Doggy Daycare
END:VEVENT
BEGIN:VEVENT
DTSTART;TZID=America/New_York:20250914T090000
DTEND;TZID=America/New_York:20250914T140000
DTSTAMP:20260422T175046
CREATED:20250829T171844Z
LAST-MODIFIED:20250902T180457Z
UID:9435-1757840400-1757858400@stonemountainpetlodge.com
SUMMARY:RAGOM'S Goldzilla
DESCRIPTION:Join us for Goldzilla\, Retrieve a Golden of the Midwest’s annual Fun Fair and Walk for Rescue – and one of the biggest Golden Retriever events in America! All money raised supports our mission of rescuing and rehoming Golden Retrievers and Golden mixes. All dogs (and people) welcome! \n\nSunday\, September 14th\, 2025\n9 am – 2 pm\nLong Lake Regional Park – New Brighton\, MN\n\nStop by our booth to say hi and snag some free prizes! \nMore Information Here!
URL:https://stonemountainpetlodge.com/event/ragoms-goldzilla/
LOCATION:MN
END:VEVENT
BEGIN:VEVENT
DTSTART;TZID=America/New_York:20250910T193000
DTEND;TZID=America/New_York:20250910T203000
DTSTAMP:20260422T175046
CREATED:20250715T195658Z
LAST-MODIFIED:20260107T190821Z
UID:9160-1757532600-1757536200@stonemountainpetlodge.com
SUMMARY:Basic Manners (Obedience 1)
DESCRIPTION:Basic Manners (Obedience 1) \nBlaine location – Wednesday nights starting 9/10 from 7:30 pm – 8:30 pm \nLearn how to get reliable responses for a well-behaved canine you can be proud of! This 6-week course covers the basics of obedience\, including sit\, down\, come\, wait\, stay\, loose leash walking\, leave-it\, and most importantly\, how to understand your dog! \nPrerequisites: \nThis course is designed for puppies of any age that have completed Puppy Kindergarten or for dogs over six months of age that have had little or no formal training in manners. \nPlease bring the following to class: \n\n4-6 Ft leash (no retractable leashes)\nPlain\, flat buckle collar\nYou may use a harness if you choose to do so\nTraining treats (you may purchase at SMPL)\n\n**Class fees are non-refundable once class begins.** \nCALL (763) 493-2003 TO REGISTER!
URL:https://stonemountainpetlodge.com/event/basic-manners-obedience-1-2/
LOCATION:Stone Mountain Pet Lodge – Blaine\, 9935 RADISSON RD NE\, MINNEAPOLIS\, MN\, 55449\, United States
CATEGORIES:Training Classes
END:VEVENT
BEGIN:VEVENT
DTSTART;TZID=America/New_York:20250910T183000
DTEND;TZID=America/New_York:20250910T193000
DTSTAMP:20260422T175046
CREATED:20250807T191758Z
LAST-MODIFIED:20260107T190814Z
UID:9381-1757529000-1757532600@stonemountainpetlodge.com
SUMMARY:Basic Manners (Obedience 1)
DESCRIPTION:Basic Manners (Obedience 1) \nBrooklyn Park location – Wednesday nights starting 9/10 from 6:30 pm – 7:30 pm \n*No class on 9/24* \nLearn how to get reliable responses for a well-behaved canine you can be proud of! This 6-week course covers the basics of obedience\, including sit\, down\, come\, wait\, stay\, loose leash walking\, leave-it\, and most importantly\, how to understand your dog! \nPrerequisites: \nThis course is designed for puppies of any age that have completed Puppy Kindergarten or for dogs over six months of age that have had little or no formal training in manners. \nPlease bring the following to class: \n\n4-6 Ft leash (no retractable leashes)\nPlain\, flat buckle collar\nYou may use a harness if you choose to do so\nTraining treats (you may purchase at SMPL)\n\nClass Dates: \n\n9/10/2025\n9/17/2025\n10/1/2025\n10/8/2025\n10/15/2025\n10/22/2025\n\n**Class fees are non-refundable once class begins.** \nCALL (763) 493-2003 TO REGISTER!
URL:https://stonemountainpetlodge.com/event/basic-manners-obedience-1-4/
LOCATION:Stone Mountain Pet Lodge – Brooklyn Park\, 9975 Xenia Ave\, Brooklyn Park\, MN\, 55443\, United States
CATEGORIES:Training Classes
END:VEVENT
BEGIN:VEVENT
DTSTART;TZID=America/New_York:20250910T181500
DTEND;TZID=America/New_York:20250910T191500
DTSTAMP:20260422T175046
CREATED:20250715T195450Z
LAST-MODIFIED:20251209T193753Z
UID:9158-1757528100-1757531700@stonemountainpetlodge.com
SUMMARY:Puppy Kindergarten: Learning to Learn
DESCRIPTION:Puppy Kindergarten: Learning to Learn \nBlaine location – Wednesday nights starting 9/10 from 6:15 pm – 7:15 pm \nGet your puppy started off on the right paw! This 6-week course covers: \n\nSocialization with other puppies\nIntroduction to basic obedience commands\nPotty and crate training\nBarking and jumping\nPulling on the leash\nComing when called\nAnd more!\n\nFour field trips are included during this class! These field trips to other departments of Stone Mountain Pet Lodge will help your pup have positive pet care experiences throughout their life by giving them exposure to common pet care services at an early age (Lodging\, Doggy Daycare\, Grooming\, and Food & Nutrition). \nPrerequisites:  \nPuppies 8 weeks to 6 months old. \nPlease bring the following to class: \n\n4-6 Ft leash (no retractable leashes)\nPlain\, flat buckle collar\nYou may use a harness if you choose to do so\nTraining treats (you may purchase at SMPL)\n\n**Class fees are non-refundable once class begins.** \nCALL (763) 493-2003 TO REGISTER!
URL:https://stonemountainpetlodge.com/event/puppy-kindergarten-learning-to-learn-2/
LOCATION:Stone Mountain Pet Lodge – Blaine\, 9935 RADISSON RD NE\, MINNEAPOLIS\, MN\, 55449\, United States
CATEGORIES:Training Classes
END:VEVENT
BEGIN:VEVENT
DTSTART;TZID=America/New_York:20250910T170000
DTEND;TZID=America/New_York:20250910T180000
DTSTAMP:20260422T175046
CREATED:20250807T191000Z
LAST-MODIFIED:20250829T164853Z
UID:9379-1757523600-1757527200@stonemountainpetlodge.com
SUMMARY:Puppy Kindergarten: Learning to Learn
DESCRIPTION:Puppy Kindergarten: Learning to Learn \nBrooklyn Park location – Wednesday evenings starting 9/10 from 5:00 – 6:00 PM \n*No class on 9/24* \nGet your puppy started off on the right paw! This 6-week course covers: \n\nSocialization with other puppies\nIntroduction to basic obedience commands\nPotty and crate training\nBarking and jumping\nPulling on the leash\nComing when called\nAnd more!\n\nFour field trips are included during this class! These field trips to other departments of Stone Mountain Pet Lodge will help your pup have positive pet care experiences throughout their life by giving them exposure to common pet care services at an early age (Lodging\, Doggy Daycare\, Grooming\, and Food & Nutrition). \nPrerequisites:  \nPuppies 8 weeks to 6 months old. \nPlease bring the following to class: \n\n4-6 Ft leash (no retractable leashes)\nPlain\, flat buckle collar\nYou may use a harness if you choose to do so\nTraining treats (you may purchase at SMPL)\n\nClass Dates: \n\n9/10/2025\n9/17/2025\n10/1/2025\n10/8/2025\n10/15/2025\n10/22/2025\n\n**Class fees are non-refundable once class begins.** \nCALL (763) 493-2003 TO REGISTER!
URL:https://stonemountainpetlodge.com/event/puppy-kindergarten-learning-to-learn-4/
LOCATION:Stone Mountain Pet Lodge – Brooklyn Park\, 9975 Xenia Ave\, Brooklyn Park\, MN\, 55443\, United States
CATEGORIES:Training Classes
END:VEVENT
BEGIN:VEVENT
DTSTART;VALUE=DATE:20250905
DTEND;VALUE=DATE:20250906
DTSTAMP:20260422T175046
CREATED:20250829T165955Z
LAST-MODIFIED:20250902T180618Z
UID:9424-1757030400-1757116799@stonemountainpetlodge.com
SUMMARY:Doggy Daycare: Back To School Party
DESCRIPTION:Back To School Party: Friday\, September 5th \nGet your pup ready for a day of tail-wagging fun as we head “back to school” at Stone Mountain Pet Lodge! \nPups in daycare will enjoy all-day recess\, tasty “school lunch” snacks\, and adorable themed photos. It’s the paw-fect way to celebrate the start of the new season with friends\, fun\, and plenty of playtime! \nReserve Your Pup’s Spot Here!
URL:https://stonemountainpetlodge.com/event/doggy-daycare-back-to-school-party/
LOCATION:MN
CATEGORIES:Doggy Daycare
END:VEVENT
BEGIN:VEVENT
DTSTART;TZID=America/New_York:20250824T130000
DTEND;TZID=America/New_York:20250824T150000
DTSTAMP:20260422T175046
CREATED:20250701T203023Z
LAST-MODIFIED:20250804T194824Z
UID:9025-1756040400-1756047600@stonemountainpetlodge.com
SUMMARY:August Puppy Social Hour
DESCRIPTION:We’re excited to launch our NEW Puppy Social Hour!\nA brand-new\, free monthly program designed to help puppies build confidence and socialize. \n \nPuppies under 6 months old with age-appropriate vaccines can be dropped off at either of our SMPL locations from 1-3 PM to play and interact with other puppies in a safe\, supervised setting. \nThis event is FREE\, however\, customers must pre-register because space is limited!\n(max 10/group) \nThis drop-off event gives puppies a chance to: \nSocialize and make new friends\nExperience new environments\nGet hands-on interaction from our trained staff\nReceive a Report Card with feedback on how they did\n4th Sunday of each Month* – 1:00 PM – 3:00 PM\n*some exceptions apply \nPuppy Social Hour: Aug 24th \nPuppy Social Hour: Sep 28th \nCall to Register (763) 493-2003 or\nRequest Your Spot at the Next Puppy Social
URL:https://stonemountainpetlodge.com/event/new-puppy-social-hour-3/
LOCATION:MN
CATEGORIES:NEW Puppy Social Hour
END:VEVENT
BEGIN:VEVENT
DTSTART;TZID=America/New_York:20250816T090000
DTEND;TZID=America/New_York:20250816T100000
DTSTAMP:20260422T175046
CREATED:20250715T200504Z
LAST-MODIFIED:20250804T194504Z
UID:9171-1755334800-1755338400@stonemountainpetlodge.com
SUMMARY:Puppy Kindergarten: Learning to Learn
DESCRIPTION:Puppy Kindergarten: Learning to Learn \nBrooklyn Park location – Saturday mornings starting 8/16 from 9:00 am – 10:00 am \nGet your puppy started off on the right paw! This 6-week course covers: \n\nSocialization with other puppies\nIntroduction to basic obedience commands\nPotty and crate training\nBarking and jumping\nPulling on the leash\nComing when called\nAnd more!\n\nFour field trips are included during this class! These field trips to other departments of Stone Mountain Pet Lodge will help your pup have positive pet care experiences throughout their life by giving them exposure to common pet care services at an early age (Lodging\, Doggy Daycare\, Grooming\, and Food & Nutrition). \nPrerequisites:  \nPuppies 8 weeks to 6 months old. \nPlease bring the following to class: \n\n4-6 Ft leash (no retractable leashes)\nPlain\, flat buckle collar\nYou may use a harness if you choose to do so\nTraining treats (you may purchase at SMPL)\n\n**Class fees are non-refundable once class begins.** \nCALL (763) 493-2003 TO REGISTER!
URL:https://stonemountainpetlodge.com/event/puppy-kindergarten-learning-to-learn-3/
LOCATION:Stone Mountain Pet Lodge – Brooklyn Park\, 9975 Xenia Ave\, Brooklyn Park\, MN\, 55443\, United States
CATEGORIES:Training Classes
END:VEVENT
BEGIN:VEVENT
DTSTART;TZID=America/New_York:20250727T130000
DTEND;TZID=America/New_York:20250727T150000
DTSTAMP:20260422T175046
CREATED:20250708T123047Z
LAST-MODIFIED:20250815T194312Z
UID:9021-1753621200-1753628400@stonemountainpetlodge.com
SUMMARY:July Puppy Social Hour
DESCRIPTION:We’re excited to launch our NEW Puppy Social Hour!\nA brand-new\, free monthly program designed to help puppies build confidence and socialize. \n \nPuppies under 6 months old with age-appropriate vaccines can be dropped off at either of our SMPL locations from 1-3 PM to play and interact with other puppies in a safe\, supervised setting. \nThis event is FREE\, however\, customers must pre-register because space is limited!\n(max 10/group) \nThis drop-off event gives puppies a chance to: \nSocialize and make new friends\nExperience new environments\nGet hands-on interaction from our trained staff\nReceive a Report Card with feedback on how they did\n4th Sunday of each Month* – 1:00 PM – 3:00 PM\n*some exceptions apply \nPuppy Social Hour: Jul 27th\nPuppy Social Hour: Aug 24th \nCall to Register (763) 493-2003 or\nRequest Your Spot at the Next Puppy Social
URL:https://stonemountainpetlodge.com/event/new-puppy-social-hour-2/
LOCATION:MN
CATEGORIES:NEW Puppy Social Hour
END:VEVENT
BEGIN:VEVENT
DTSTART;TZID=America/New_York:20250726T103000
DTEND;TZID=America/New_York:20250726T113000
DTSTAMP:20260422T175046
CREATED:20250715T200332Z
LAST-MODIFIED:20251006T182344Z
UID:9166-1753525800-1753529400@stonemountainpetlodge.com
SUMMARY:Basic Manners (Obedience 1)
DESCRIPTION:Basic Manners (Obedience 1) \nBrooklyn Park location – Saturday mornings starting 7/26 from 10:30 am – 11:30 am \nLearn how to get reliable responses for a well-behaved canine you can be proud of! This 6-week course covers the basics of obedience\, including sit\, down\, come\, wait\, stay\, loose leash walking\, leave-it\, and most importantly\, how to understand your dog! \nPrerequisites: \nThis course is designed for puppies of any age that have completed Puppy Kindergarten or for dogs over six months of age that have had little or no formal training in manners. \nPlease bring the following to class: \n\n4-6 Ft leash (no retractable leashes)\nPlain\, flat buckle collar\nYou may use a harness if you choose to do so\nTraining treats (you may purchase at SMPL)\n\n**Class fees are non-refundable once class begins.** \nCALL (763) 493-2003 TO REGISTER!
URL:https://stonemountainpetlodge.com/event/basic-manners-obedience-1-3/
LOCATION:Stone Mountain Pet Lodge – Brooklyn Park\, 9975 Xenia Ave\, Brooklyn Park\, MN\, 55443\, United States
CATEGORIES:Training Classes
END:VEVENT
BEGIN:VEVENT
DTSTART;TZID=America/New_York:20250725T150000
DTEND;TZID=America/New_York:20250725T190000
DTSTAMP:20260422T175046
CREATED:20250701T203847Z
LAST-MODIFIED:20250715T190907Z
UID:9027-1753455600-1753470000@stonemountainpetlodge.com
SUMMARY:20th Anniversary Party
DESCRIPTION:Stone Mountain Pet Lodge’s 20th Anniversary Party!\n\n9935 Radisson Rd NE\, Blaine\, MN\nFriday\, July 25th\n3:00–7:00 PM\n\nWe’re turning 20 years old\, and we want to celebrate with YOU! \nJoin us at our Blaine location for an afternoon of fun\, food\, and festivities to thank our amazing customers\, community\, and team for two decades of support.\n\nFree food fresh off the grill\nRaffle prizes and giveaways throughout the event\nGames and activities\nAnniversary specials and surprises you won’t want to miss!\n\nWhether you’ve been with us since the beginning or just joined the pack\, we’d love to see you there. Stay tuned for more details as we get closer to the big day!
URL:https://stonemountainpetlodge.com/event/20th-anniversary-party/
LOCATION:MN
END:VEVENT
BEGIN:VEVENT
DTSTART;TZID=America/New_York:20250723T193000
DTEND;TZID=America/New_York:20250723T203000
DTSTAMP:20260422T175046
CREATED:20250715T195001Z
LAST-MODIFIED:20250819T182740Z
UID:9143-1753299000-1753302600@stonemountainpetlodge.com
SUMMARY:Basic Manners (Obedience 1)
DESCRIPTION:Basic Manners (Obedience 1) \nBlaine location – Wednesday nights starting 7/23 from 7:30 pm – 8:30 pm \nLearn how to get reliable responses for a well-behaved canine you can be proud of! This 6-week course covers the basics of obedience\, including sit\, down\, come\, wait\, stay\, loose leash walking\, leave-it\, and most importantly\, how to understand your dog! \nPrerequisites: \nThis course is designed for puppies of any age that have completed Puppy Kindergarten or for dogs over six months of age that have had little or no formal training in manners. \nPlease bring the following to class: \n\n4-6 Ft leash (no retractable leashes)\nPlain\, flat buckle collar\nYou may use a harness if you choose to do so\nTraining treats (you may purchase at SMPL)\n\n**Class fees are non-refundable once class begins.** \nCALL (763) 493-2003 TO REGISTER!
URL:https://stonemountainpetlodge.com/event/basic-manners-obedience-1/
LOCATION:Stone Mountain Pet Lodge – Blaine\, 9935 RADISSON RD NE\, MINNEAPOLIS\, MN\, 55449\, United States
CATEGORIES:Training Classes
END:VEVENT
BEGIN:VEVENT
DTSTART;TZID=America/New_York:20250723T181500
DTEND;TZID=America/New_York:20250723T191500
DTSTAMP:20260422T175046
CREATED:20250715T194305Z
LAST-MODIFIED:20250815T195020Z
UID:9132-1753294500-1753298100@stonemountainpetlodge.com
SUMMARY:Puppy Kindergarten: Learning to Learn
DESCRIPTION:Puppy Kindergarten: Learning to Learn \nBlaine location – Wednesday nights starting 7/23 from 6:15 pm – 7:15 pm \nGet your puppy started off on the right paw! This 6-week course covers: \n\nSocialization with other puppies\nIntroduction to basic obedience commands\nPotty and crate training\nBarking and jumping\nPulling on the leash\nComing when called\nAnd more!\n\nFour field trips are included during this class! These field trips to other departments of Stone Mountain Pet Lodge will help your pup have positive pet care experiences throughout their life by giving them exposure to common pet care services at an early age (Lodging\, Doggy Daycare\, Grooming\, and Food & Nutrition). \nPrerequisites:  \nPuppies 8 weeks to 6 months old. \nPlease bring the following to class: \n\n4-6 Ft leash (no retractable leashes)\nPlain\, flat buckle collar\nYou may use a harness if you choose to do so\nTraining treats (you may purchase at SMPL)\n\n**Class fees are non-refundable once class begins.** \nCALL (763) 493-2003 TO REGISTER!
URL:https://stonemountainpetlodge.com/event/puppy-kindergarten-learning-to-learn/
LOCATION:Stone Mountain Pet Lodge – Blaine\, 9935 RADISSON RD NE\, MINNEAPOLIS\, MN\, 55449\, United States
CATEGORIES:Training Classes
END:VEVENT
BEGIN:VEVENT
DTSTART;TZID=America/New_York:20250622T130000
DTEND;TZID=America/New_York:20250622T150000
DTSTAMP:20260422T175046
CREATED:20250519T081430Z
LAST-MODIFIED:20250815T194301Z
UID:5578-1750597200-1750604400@stonemountainpetlodge.com
SUMMARY:New Puppy Social Hour
DESCRIPTION:We’re excited to launch our NEW Puppy Social Hour!\nA brand-new\, free monthly program designed to help puppies build confidence and socialize. \n \nPuppies under 6 months old with age-appropriate vaccines can be dropped off at either of our SMPL locations from 1-3 PM to play and interact with other puppies in a safe\, supervised setting. \nThis event is FREE\, however\, customers must pre-register because space is limited!\n(max 10/group) \nThis drop-off event gives puppies a chance to: \nSocialize and make new friends\nExperience new environments\nGet hands-on interaction from our trained staff\nReceive a Report Card with feedback on how they did\n4th Sunday of each Month* – 1:00 PM – 3:00 PM\n*some exceptions apply \nPuppy Social Hour: Jun 22nd\nPuppy Social Hour: Jul 27th\nPuppy Social Hour: Aug 24th \nCall to Register (763) 493-2003 or\nRequest Your Spot at the Next Puppy Social
URL:https://stonemountainpetlodge.com/event/new-puppy-social-hour/
LOCATION:MN
CATEGORIES:NEW Puppy Social Hour
END:VEVENT
BEGIN:VEVENT
DTSTART;TZID=America/New_York:20250519T080000
DTEND;TZID=America/New_York:20250519T170000
DTSTAMP:20260422T175046
CREATED:20250519T082451Z
LAST-MODIFIED:20250519T123135Z
UID:5580-1747641600-1747674000@stonemountainpetlodge.com
SUMMARY:Make An Event Reservation Request
DESCRIPTION:If you would like to speak to one of our Event Specialists\, please give us a call at 763-493-2003 for more information or to schedule an appointment to meet in person. \nBrooklyn Park Xenia\nStone Mountain Pet Lodge is a great place to hold your event! Our Brooklyn Park Xenia location is a brand new state-of-the-art facility with plenty of indoor space for holding special events such as Bassett Buddies Rescue\, Great Dane Rescue\, English Springer Rescue America. \nBlaine Radisson\nStone Mountain Pet Lodge is a great place to hold your event! The Bear Canyon Room located in our Blaine Radisson location is a spacious hall with cushioned floors. Equipped with projector and screen as well as Internet access\, this 850 square foot room can accommodate appoximately 30 people for your event. Our facility has 46 standard parking spots but we can accommodate up to 130 parking spots with overflow parking (road-side spots require a temporary parking permit).\n Make An Event Reservation Request
URL:https://stonemountainpetlodge.com/event/make-an-event-reservation-request/
LOCATION:MN
CATEGORIES:Make An Event Reservation Request
END:VEVENT
END:VCALENDAR